BEGIN:VCALENDAR
VERSION:2.0
PRODID:-//Imkerverein Kellinghusen - ECPv6.2.6//NONSGML v1.0//EN
CALSCALE:GREGORIAN
METHOD:PUBLISH
X-ORIGINAL-URL:https://iv-k.de
X-WR-CALDESC:Veranstaltungen für Imkerverein Kellinghusen
REFRESH-INTERVAL;VALUE=DURATION:PT1H
X-Robots-Tag:noindex
X-PUBLISHED-TTL:PT1H
BEGIN:VTIMEZONE
TZID:Europe/Berlin
BEGIN:DAYLIGHT
TZOFFSETFROM:+0100
TZOFFSETTO:+0200
TZNAME:CEST
DTSTART:20260329T010000
END:DAYLIGHT
BEGIN:STANDARD
TZOFFSETFROM:+0200
TZOFFSETTO:+0100
TZNAME:CET
DTSTART:20261025T010000
END:STANDARD
END:VTIMEZONE
BEGIN:VEVENT
DTSTART;TZID=Europe/Berlin:20260826T190000
DTEND;TZID=Europe/Berlin:20260826T210000
DTSTAMP:20260422T155650
CREATED:20251104T083126Z
LAST-MODIFIED:20251104T083126Z
UID:5714-1787770800-1787778000@iv-k.de
SUMMARY:Klönschnack
DESCRIPTION:Bienengarten\, Kleingartenverein Kellinghusen\, Quarnstedter Straße 56\, Kellinghusen
URL:https://iv-k.de/veranstaltung/kloenschnack-77/
END:VEVENT
BEGIN:VEVENT
DTSTART;TZID=Europe/Berlin:20260829T120000
DTEND;TZID=Europe/Berlin:20260829T170000
DTSTAMP:20260422T155650
CREATED:20260102T094540Z
LAST-MODIFIED:20260102T094540Z
UID:5738-1788004800-1788022800@iv-k.de
SUMMARY:Sommerfest 2026
DESCRIPTION:Wir laden Euch ein zum Sommerfest 2026. \nDetails werden in Kürze bekanntgegeben.
URL:https://iv-k.de/veranstaltung/sommerfest-2026/
END:VEVENT
END:VCALENDAR