BEGIN:VCALENDAR
VERSION:2.0
PRODID:-//Imkerverein Kellinghusen - ECPv6.2.6//NONSGML v1.0//EN
CALSCALE:GREGORIAN
METHOD:PUBLISH
X-WR-CALNAME:Imkerverein Kellinghusen
X-ORIGINAL-URL:https://iv-k.de
X-WR-CALDESC:Veranstaltungen für Imkerverein Kellinghusen
REFRESH-INTERVAL;VALUE=DURATION:PT1H
X-Robots-Tag:noindex
X-PUBLISHED-TTL:PT1H
BEGIN:VTIMEZONE
TZID:Europe/Berlin
BEGIN:DAYLIGHT
TZOFFSETFROM:+0100
TZOFFSETTO:+0200
TZNAME:CEST
DTSTART:20240331T010000
END:DAYLIGHT
BEGIN:STANDARD
TZOFFSETFROM:+0200
TZOFFSETTO:+0100
TZNAME:CET
DTSTART:20241027T010000
END:STANDARD
END:VTIMEZONE
BEGIN:VEVENT
DTSTART;TZID=Europe/Berlin:20240309T090000
DTEND;TZID=Europe/Berlin:20240309T170000
DTSTAMP:20260422T033352
CREATED:20240225T110559Z
LAST-MODIFIED:20240225T111127Z
UID:5391-1709974800-1710003600@iv-k.de
SUMMARY:Arbeitseinsatz neue Parzelle
DESCRIPTION:Während der Jahreshauptversammlung am 16.02. berichtete Ecki\, dass der Verein die Parzelle direkt neben unserem Bienengarten angemietet hat. Wer hat Lust\, die neue Parzelle auf Vordermann zu bringen? Der Arbeitseinsatz beginnt ab 09:00. Für Getränke und Essen wird gesorgt.
URL:https://iv-k.de/veranstaltung/arbeitseinsatz-neue-parzelle/
END:VEVENT
BEGIN:VEVENT
DTSTART;TZID=Europe/Berlin:20240328T190000
DTEND;TZID=Europe/Berlin:20240328T210000
DTSTAMP:20260422T033352
CREATED:20231104T180525Z
LAST-MODIFIED:20231104T180602Z
UID:5320-1711652400-1711659600@iv-k.de
SUMMARY:Klönschnack
DESCRIPTION:Restaurant „Auszeit“\, Tennisclub Kellinghusen\, Jakob-Fleischer-Straße\, Kellinghusen
URL:https://iv-k.de/veranstaltung/kloenschnack-48/
END:VEVENT
END:VCALENDAR