BEGIN:VCALENDAR
VERSION:2.0
PRODID:-//Imkerverein Kellinghusen - ECPv6.2.6//NONSGML v1.0//EN
CALSCALE:GREGORIAN
METHOD:PUBLISH
X-WR-CALNAME:Imkerverein Kellinghusen
X-ORIGINAL-URL:https://iv-k.de
X-WR-CALDESC:Veranstaltungen für Imkerverein Kellinghusen
REFRESH-INTERVAL;VALUE=DURATION:PT1H
X-Robots-Tag:noindex
X-PUBLISHED-TTL:PT1H
BEGIN:VTIMEZONE
TZID:Europe/Berlin
BEGIN:DAYLIGHT
TZOFFSETFROM:+0100
TZOFFSETTO:+0200
TZNAME:CEST
DTSTART:20220327T010000
END:DAYLIGHT
BEGIN:STANDARD
TZOFFSETFROM:+0200
TZOFFSETTO:+0100
TZNAME:CET
DTSTART:20221030T010000
END:STANDARD
END:VTIMEZONE
BEGIN:VEVENT
DTSTART;TZID=Europe/Berlin:20220806T093000
DTEND;TZID=Europe/Berlin:20220806T140000
DTSTAMP:20260423T113649
CREATED:20220104T073657Z
LAST-MODIFIED:20220104T081901Z
UID:4654-1659778200-1659794400@iv-k.de
SUMMARY:Imkerkurs für Neuimker - Teil 6
DESCRIPTION:Thema: Theorie und Praxis im Bienengarten (u.a. Varroabehandlung\, Volkskontrolle) \n  \nBienengarten\, Quarnstedter Straße 56\, Kellinghusen
URL:https://iv-k.de/veranstaltung/imkerkurs-fuer-neuimker-teil-6/
END:VEVENT
BEGIN:VEVENT
DTSTART;TZID=Europe/Berlin:20220807T100000
DTEND;TZID=Europe/Berlin:20220807T160000
DTSTAMP:20260423T113649
CREATED:20220529T110059Z
LAST-MODIFIED:20220529T110059Z
UID:4958-1659866400-1659888000@iv-k.de
SUMMARY:Sommerfest 2022
DESCRIPTION:Nach 2 Jahren Pandemie möchten wir in diesem Jahr in alter Tradition wieder ein Sommerfest durchführen. Dieses Mal werden wir mit dem Floß die Stör nördlich von Kellinghusen erkunden. Einzelheiten folgen.
URL:https://iv-k.de/veranstaltung/sommerfest-2022/
ATTACH;FMTTYPE=image/jpeg:https://iv-k.de/wp-content/uploads/2022/05/IMG_4410-scaled.jpg
END:VEVENT
BEGIN:VEVENT
DTSTART;TZID=Europe/Berlin:20220831T190000
DTEND;TZID=Europe/Berlin:20220831T210000
DTSTAMP:20260423T113649
CREATED:20211219T195147Z
LAST-MODIFIED:20211219T195147Z
UID:4817-1661972400-1661979600@iv-k.de
SUMMARY:Klönschnack
DESCRIPTION:Bienengarten\, Kleingartenverein Kellinghusen\, Quarnstedter Straße 56\, Kellinghusen
URL:https://iv-k.de/veranstaltung/kloenschnack-34/
END:VEVENT
END:VCALENDAR