BEGIN:VCALENDAR
VERSION:2.0
PRODID:-//Imkerverein Kellinghusen - ECPv6.2.6//NONSGML v1.0//EN
CALSCALE:GREGORIAN
METHOD:PUBLISH
X-ORIGINAL-URL:https://iv-k.de
X-WR-CALDESC:Veranstaltungen für Imkerverein Kellinghusen
REFRESH-INTERVAL;VALUE=DURATION:PT1H
X-Robots-Tag:noindex
X-PUBLISHED-TTL:PT1H
BEGIN:VTIMEZONE
TZID:Europe/Berlin
BEGIN:DAYLIGHT
TZOFFSETFROM:+0100
TZOFFSETTO:+0200
TZNAME:CEST
DTSTART:20220327T010000
END:DAYLIGHT
BEGIN:STANDARD
TZOFFSETFROM:+0200
TZOFFSETTO:+0100
TZNAME:CET
DTSTART:20221030T010000
END:STANDARD
END:VTIMEZONE
BEGIN:VEVENT
DTSTART;TZID=Europe/Berlin:20220409T110000
DTEND;TZID=Europe/Berlin:20220409T170000
DTSTAMP:20260423T183313
CREATED:20211219T195524Z
LAST-MODIFIED:20220328T185404Z
UID:4829-1649502000-1649523600@iv-k.de
SUMMARY:TERMINÄNDERUNG   Frühlingsfit - 1. Tag
DESCRIPTION:Bienengarten\, Kleingartenverein Kellinghusen\, Quarnstedter Straße 56\, Kellinghusen \nWir machen unseren Bienengarten im Kleingartenverein Kellinghusen fit für das Frühjahr und den Sommer und freuen uns über jede helfende Hand. Für das leibliche Wohl wird ausreichend gesorgt! \nHINWEIS: Corona-bedingt müssen wir diesen Termin vom 02. auf den 09.04. verschieben!
URL:https://iv-k.de/veranstaltung/fruehlingsfit-1-tag/
END:VEVENT
BEGIN:VEVENT
DTSTART;TZID=Europe/Berlin:20220410T110000
DTEND;TZID=Europe/Berlin:20220410T170000
DTSTAMP:20260423T183313
CREATED:20211219T195712Z
LAST-MODIFIED:20220328T185322Z
UID:4837-1649588400-1649610000@iv-k.de
SUMMARY:TERMINÄNDERUNG    Frühlingsfit - 2. Tag
DESCRIPTION:Bienengarten\, Kleingartenverein Kellinghusen\, Quarnstedter Straße 56\, Kellinghusen \nWir machen unseren Bienengarten im Kleingartenverein Kellinghusen fit für das Frühjahr und den Sommer und freuen uns über jede helfende Hand. Für das leibliche Wohl wird ausreichend gesorgt! \nHINWEIS: Corona-bedingt müssen wir diesen Termin vom 03. auf den 10.04. verschieben!
URL:https://iv-k.de/veranstaltung/fruehlingsfit-3-tag/
END:VEVENT
BEGIN:VEVENT
DTSTART;TZID=Europe/Berlin:20220423T093000
DTEND;TZID=Europe/Berlin:20220423T140000
DTSTAMP:20260423T183313
CREATED:20220104T073157Z
LAST-MODIFIED:20220104T081424Z
UID:4642-1650706200-1650722400@iv-k.de
SUMMARY:Imkerkurs für Neuimker - Teil 2
DESCRIPTION:Thema: Theorie und Praxis im Bienengarten (Frühjahrsdurchsicht\, Baurahmen etc.) \n  \nBienengarten\, Quarnstedter Straße 56\, Kellinghusen
URL:https://iv-k.de/veranstaltung/imkerkurs-fuer-neuimker-teil-2/
END:VEVENT
BEGIN:VEVENT
DTSTART;TZID=Europe/Berlin:20220427T190000
DTEND;TZID=Europe/Berlin:20220427T210000
DTSTAMP:20260423T183313
CREATED:20211219T194915Z
LAST-MODIFIED:20211219T194915Z
UID:4805-1651086000-1651093200@iv-k.de
SUMMARY:Klönschnack
DESCRIPTION:Bienengarten\, Kleingartenverein Kellinghusen\, Quarnstedter Straße 56\, Kellinghusen
URL:https://iv-k.de/veranstaltung/kloenschnack-30/
END:VEVENT
END:VCALENDAR