BEGIN:VCALENDAR
VERSION:2.0
PRODID:-//Imkerverein Kellinghusen - ECPv6.2.6//NONSGML v1.0//EN
CALSCALE:GREGORIAN
METHOD:PUBLISH
X-ORIGINAL-URL:https://iv-k.de
X-WR-CALDESC:Veranstaltungen für Imkerverein Kellinghusen
REFRESH-INTERVAL;VALUE=DURATION:PT1H
X-Robots-Tag:noindex
X-PUBLISHED-TTL:PT1H
BEGIN:VTIMEZONE
TZID:Europe/Berlin
BEGIN:DAYLIGHT
TZOFFSETFROM:+0100
TZOFFSETTO:+0200
TZNAME:CEST
DTSTART:20210328T010000
END:DAYLIGHT
BEGIN:STANDARD
TZOFFSETFROM:+0200
TZOFFSETTO:+0100
TZNAME:CET
DTSTART:20211031T010000
END:STANDARD
END:VTIMEZONE
BEGIN:VEVENT
DTSTART;TZID=Europe/Berlin:20211023T110000
DTEND;TZID=Europe/Berlin:20211023T170000
DTSTAMP:20260424T043239
CREATED:20201221T103458Z
LAST-MODIFIED:20201221T103458Z
UID:4603-1634986800-1635008400@iv-k.de
SUMMARY:Herbstfit
DESCRIPTION:Bienengarten\, Kleingartenverein Kellinghusen\, Quarnstedter Straße 56\, Kellinghusen \nWir machen unseren Bienengarten im Kleingartenverein Kellinghusen fit für Winter und freuen uns über jede helfende Hand. Für das leibliche Wohl wird ausreichend gesorgt!
URL:https://iv-k.de/veranstaltung/herbstfit-2/
END:VEVENT
BEGIN:VEVENT
DTSTART;TZID=Europe/Berlin:20211027T190000
DTEND;TZID=Europe/Berlin:20211027T210000
DTSTAMP:20260424T043239
CREATED:20201216T175259Z
LAST-MODIFIED:20201216T175259Z
UID:4582-1635361200-1635368400@iv-k.de
SUMMARY:Klönschnack ... mal anders
DESCRIPTION:Tennisclub Kellinghusen\, Jakob-Fleischer-Straße\, Kellinghusen \nVarroatolerenzzucht: ein Hype oder erfolgsversprechend? \nEcki gibt uns einen Einblick in das Zuchtverfahren und berichtet über Erfahrungen.
URL:https://iv-k.de/veranstaltung/kloenschnack-mal-anders-4/
END:VEVENT
END:VCALENDAR