BEGIN:VCALENDAR
VERSION:2.0
PRODID:-//Imkerverein Kellinghusen - ECPv6.2.6//NONSGML v1.0//EN
CALSCALE:GREGORIAN
METHOD:PUBLISH
X-ORIGINAL-URL:https://iv-k.de
X-WR-CALDESC:Veranstaltungen für Imkerverein Kellinghusen
REFRESH-INTERVAL;VALUE=DURATION:PT1H
X-Robots-Tag:noindex
X-PUBLISHED-TTL:PT1H
BEGIN:VTIMEZONE
TZID:Europe/Berlin
BEGIN:DAYLIGHT
TZOFFSETFROM:+0100
TZOFFSETTO:+0200
TZNAME:CEST
DTSTART:20210328T010000
END:DAYLIGHT
BEGIN:STANDARD
TZOFFSETFROM:+0200
TZOFFSETTO:+0100
TZNAME:CET
DTSTART:20211031T010000
END:STANDARD
END:VTIMEZONE
BEGIN:VEVENT
DTSTART;TZID=Europe/Berlin:20210313T150000
DTEND;TZID=Europe/Berlin:20210313T170000
DTSTAMP:20260424T160525
CREATED:20201221T104157Z
LAST-MODIFIED:20210214T194555Z
UID:4611-1615647600-1615654800@iv-k.de
SUMMARY:ABGESAGT - Boßeln
DESCRIPTION:Aufgrund der aktuell geltenden Corona-Regeln findet die Veranstaltung nicht statt. \nAbhängig von den aktuell geltenden Corona-Bestimmungen möchten wir mit Euch wieder Boßeln. Start ist um 15:00 am Tennisclub Kellinghusen\, Jakob-Fleischer-Straße\, Kellinghusen. \n 
URL:https://iv-k.de/veranstaltung/bosseln/
END:VEVENT
BEGIN:VEVENT
DTSTART;TZID=Europe/Berlin:20210331T190000
DTEND;TZID=Europe/Berlin:20210331T210000
DTSTAMP:20260424T160525
CREATED:20201216T174158Z
LAST-MODIFIED:20210310T200858Z
UID:4555-1617217200-1617224400@iv-k.de
SUMMARY:ABGESAGT - Klönschnack
DESCRIPTION:Tennisclub Kellinghusen\, Jakob-Fleischer-Straße\, Kellinghusen \nAufgrund der aktuell geltenden Corona-Regeln müssen wir diesen Klönschnack absagen.
URL:https://iv-k.de/veranstaltung/kloenschnack-13/
END:VEVENT
END:VCALENDAR