BEGIN:VCALENDAR
VERSION:2.0
PRODID:-//Imkerverein Kellinghusen - ECPv6.2.6//NONSGML v1.0//EN
CALSCALE:GREGORIAN
METHOD:PUBLISH
X-WR-CALNAME:Imkerverein Kellinghusen
X-ORIGINAL-URL:https://iv-k.de
X-WR-CALDESC:Veranstaltungen für Imkerverein Kellinghusen
REFRESH-INTERVAL;VALUE=DURATION:PT1H
X-Robots-Tag:noindex
X-PUBLISHED-TTL:PT1H
BEGIN:VTIMEZONE
TZID:Europe/Berlin
BEGIN:DAYLIGHT
TZOFFSETFROM:+0100
TZOFFSETTO:+0200
TZNAME:CEST
DTSTART:20210328T010000
END:DAYLIGHT
BEGIN:STANDARD
TZOFFSETFROM:+0200
TZOFFSETTO:+0100
TZNAME:CET
DTSTART:20211031T010000
END:STANDARD
END:VTIMEZONE
BEGIN:VEVENT
DTSTART;TZID=Europe/Berlin:20210127T190000
DTEND;TZID=Europe/Berlin:20210127T210000
DTSTAMP:20260424T191024
CREATED:20201216T173036Z
LAST-MODIFIED:20210122T113849Z
UID:4541-1611774000-1611781200@iv-k.de
SUMMARY:ABGESAGT - Klönschnack
DESCRIPTION:Tennisclub Kellinghusen\, Jakob-Fleischer-Straße\, Kellinghusen \nAufgrund der aktuell geltenden Corona-Regeln findet der Klönschnack nicht statt.
URL:https://iv-k.de/veranstaltung/abgesagt-kloenschnack/
END:VEVENT
BEGIN:VEVENT
DTSTART;TZID=Europe/Berlin:20210129T190000
DTEND;TZID=Europe/Berlin:20210129T210000
DTSTAMP:20260424T191024
CREATED:20201221T104952Z
LAST-MODIFIED:20210122T113626Z
UID:4615-1611946800-1611954000@iv-k.de
SUMMARY:VERSCHOBEN - Jahreshauptversammlung - 29.01. oder 05.02.
DESCRIPTION:BiBeKu GmbH\, Brauerstraße 42\, Kellinghusen (ehemals Kellinghusen Amt Land). Dieses ist eine vereinsinterne Veranstaltung. \nAufgrund der aktuell geltenden Corona-Regeln wird die Jahreshauptversammlung auf einen späteren Zeitpunkt verschoben. Den Termin werden wir rechtzeitig bekannt geben. \n 
URL:https://iv-k.de/veranstaltung/jahreshauptversammlung-29-01-oder-05-02/
END:VEVENT
END:VCALENDAR