BEGIN:VCALENDAR
VERSION:2.0
PRODID:-//Imkerverein Kellinghusen - ECPv6.2.6//NONSGML v1.0//EN
CALSCALE:GREGORIAN
METHOD:PUBLISH
X-WR-CALNAME:Imkerverein Kellinghusen
X-ORIGINAL-URL:https://iv-k.de
X-WR-CALDESC:Veranstaltungen für Imkerverein Kellinghusen
REFRESH-INTERVAL;VALUE=DURATION:PT1H
X-Robots-Tag:noindex
X-PUBLISHED-TTL:PT1H
BEGIN:VTIMEZONE
TZID:Europe/Berlin
BEGIN:DAYLIGHT
TZOFFSETFROM:+0100
TZOFFSETTO:+0200
TZNAME:CEST
DTSTART:20190331T010000
END:DAYLIGHT
BEGIN:STANDARD
TZOFFSETFROM:+0200
TZOFFSETTO:+0100
TZNAME:CET
DTSTART:20191027T010000
END:STANDARD
END:VTIMEZONE
BEGIN:VEVENT
DTSTART;TZID=Europe/Berlin:20190616T110000
DTEND;TZID=Europe/Berlin:20190616T180000
DTSTAMP:20260425T214949
CREATED:20181203T090933Z
LAST-MODIFIED:20190605T062652Z
UID:3573-1560682800-1560708000@iv-k.de
SUMMARY:Ausflug des Imkervereins
DESCRIPTION:Ausflug des Imkervereins zur Belegstelle Hamburger Hallig. \nIn diesem Jahr werden wir die Belegstelle auf der Hamburger Hallig besuchen und dort einen informativen Nachmittag verbringen. Treffpunkt ist auf dem unteren Marktplatz in Kellinghusen. Abfahrt: 11:00 h. \nVom Festland bis zur Hallig sind es ca. 4 km\, die wir zu Fuß zurücklegen werden. Gegen Gebühr können auch Fahrzeuge auf die Hallig mitgenommen werden\, falls der Fußmarsch zu lang sein sollte. \nDie Anmeldung erfolgt per Überweisung des Kostenbeitrags (€9\,50) bis zum 07.06.2019. \nDieses ist eine vereinsinterne Veranstaltung.
URL:https://iv-k.de/veranstaltung/ausflug-des-imkervereins/
END:VEVENT
BEGIN:VEVENT
DTSTART;TZID=Europe/Berlin:20190626T190000
DTEND;TZID=Europe/Berlin:20190626T210000
DTSTAMP:20260425T214949
CREATED:20181203T091010Z
LAST-MODIFIED:20190126T115749Z
UID:3575-1561575600-1561582800@iv-k.de
SUMMARY:Klönschnack
DESCRIPTION:Bienengarten\, Kleingartenverein Kellinghusen\, Quarnstedter Straße 56\, Kellinghusen
URL:https://iv-k.de/veranstaltung/kloenschnack-6/
END:VEVENT
END:VCALENDAR