BEGIN:VCALENDAR
VERSION:2.0
PRODID:-//Imkerverein Kellinghusen - ECPv6.2.6//NONSGML v1.0//EN
CALSCALE:GREGORIAN
METHOD:PUBLISH
X-WR-CALNAME:Imkerverein Kellinghusen
X-ORIGINAL-URL:https://iv-k.de
X-WR-CALDESC:Veranstaltungen für Imkerverein Kellinghusen
REFRESH-INTERVAL;VALUE=DURATION:PT1H
X-Robots-Tag:noindex
X-PUBLISHED-TTL:PT1H
BEGIN:VTIMEZONE
TZID:Europe/Berlin
BEGIN:DAYLIGHT
TZOFFSETFROM:+0100
TZOFFSETTO:+0200
TZNAME:CEST
DTSTART:20190331T010000
END:DAYLIGHT
BEGIN:STANDARD
TZOFFSETFROM:+0200
TZOFFSETTO:+0100
TZNAME:CET
DTSTART:20191027T010000
END:STANDARD
END:VTIMEZONE
BEGIN:VEVENT
DTSTART;TZID=Europe/Berlin:20190406T110000
DTEND;TZID=Europe/Berlin:20190407T170000
DTSTAMP:20260426T010937
CREATED:20181203T090657Z
LAST-MODIFIED:20190126T120648Z
UID:3565-1554548400-1554656400@iv-k.de
SUMMARY:Frühlingsfit
DESCRIPTION:Wir machen unseren Bienengarten im Kleingartenverein Kellinghusen fit für das Frühjahr und freuen uns auf jede helfende Hand. Für das leibliche Wohl wird ausreichend gesorgt!
URL:https://iv-k.de/veranstaltung/fruehlingsfit/
END:VEVENT
BEGIN:VEVENT
DTSTART;TZID=Europe/Berlin:20190407T110000
DTEND;TZID=Europe/Berlin:20190407T170000
DTSTAMP:20260426T010937
CREATED:20181203T090733Z
LAST-MODIFIED:20190126T120604Z
UID:3567-1554634800-1554656400@iv-k.de
SUMMARY:Frühlingsfit
DESCRIPTION:Wir machen unseren Bienengarten im Kleingartenverein Kellinghusen fit für das Frühjahr und freuen uns auf jede helfende Hand. Für das leibliche Wohl wird ausreichend gesorgt!
URL:https://iv-k.de/veranstaltung/fruehlingsfit-2/
END:VEVENT
BEGIN:VEVENT
DTSTART;TZID=Europe/Berlin:20190424T190000
DTEND;TZID=Europe/Berlin:20190424T210000
DTSTAMP:20260426T010937
CREATED:20181203T090810Z
LAST-MODIFIED:20190126T120518Z
UID:3569-1556132400-1556139600@iv-k.de
SUMMARY:Klönschnack
DESCRIPTION:Bienengarten\, Kleingartenverein Kellinghusen\, Quarnstedter Straße 56\, Kellinghusen
URL:https://iv-k.de/veranstaltung/kloenschnack-4/
END:VEVENT
END:VCALENDAR