BEGIN:VCALENDAR
VERSION:2.0
PRODID:-//Imkerverein Kellinghusen - ECPv6.2.6//NONSGML v1.0//EN
CALSCALE:GREGORIAN
METHOD:PUBLISH
X-ORIGINAL-URL:https://iv-k.de
X-WR-CALDESC:Veranstaltungen für Imkerverein Kellinghusen
REFRESH-INTERVAL;VALUE=DURATION:PT1H
X-Robots-Tag:noindex
X-PUBLISHED-TTL:PT1H
BEGIN:VTIMEZONE
TZID:Europe/Berlin
BEGIN:DAYLIGHT
TZOFFSETFROM:+0100
TZOFFSETTO:+0200
TZNAME:CEST
DTSTART:20240331T010000
END:DAYLIGHT
BEGIN:STANDARD
TZOFFSETFROM:+0200
TZOFFSETTO:+0100
TZNAME:CET
DTSTART:20241027T010000
END:STANDARD
END:VTIMEZONE
BEGIN:VEVENT
DTSTART;TZID=Europe/Berlin:20240831T110000
DTEND;TZID=Europe/Berlin:20240831T150000
DTSTAMP:20260421T203255
CREATED:20240104T104258Z
LAST-MODIFIED:20240829T160015Z
UID:5360-1725102000-1725116400@iv-k.de
SUMMARY:125-Jahr-Feier
DESCRIPTION:Unser Imkerverein wird 125 Jahre alt! Das wollen wir gemeinsam feiern und laden unsere Mitglieder und Freunde des Vereins zum Frühschoppen ein. Beginn: 11:00 h im Bienengarten. Fürs leibliche Wohl ist gesorgt! Wir freuen uns auf einen schönen Sommertag mit Euch!
URL:https://iv-k.de/veranstaltung/sommerfest-2024/
END:VEVENT
END:VCALENDAR