BEGIN:VCALENDAR
VERSION:2.0
PRODID:-//Imkerverein Kellinghusen - ECPv6.2.6//NONSGML v1.0//EN
CALSCALE:GREGORIAN
METHOD:PUBLISH
X-ORIGINAL-URL:https://iv-k.de
X-WR-CALDESC:Veranstaltungen für Imkerverein Kellinghusen
REFRESH-INTERVAL;VALUE=DURATION:PT1H
X-Robots-Tag:noindex
X-PUBLISHED-TTL:PT1H
BEGIN:VTIMEZONE
TZID:Europe/Berlin
BEGIN:DAYLIGHT
TZOFFSETFROM:+0100
TZOFFSETTO:+0200
TZNAME:CEST
DTSTART:20220327T010000
END:DAYLIGHT
BEGIN:STANDARD
TZOFFSETFROM:+0200
TZOFFSETTO:+0100
TZNAME:CET
DTSTART:20221030T010000
END:STANDARD
END:VTIMEZONE
BEGIN:VEVENT
DTSTART;TZID=Europe/Berlin:20220709T093000
DTEND;TZID=Europe/Berlin:20220709T140000
DTSTAMP:20260423T150649
CREATED:20220104T073541Z
LAST-MODIFIED:20220104T081756Z
UID:4651-1657359000-1657375200@iv-k.de
SUMMARY:Imkerkurs für Neuimker - Teil 5
DESCRIPTION:Thema: Theorie und Praxis im Bienengarten (u.a. Spätsommerbehandlung\, Auffüttern) \n  \nBienengarten\, Quarnstedter Straße 56\, Kellinghusen
URL:https://iv-k.de/veranstaltung/imkerkurs-fuer-neuimker-teil-5/
END:VEVENT
END:VCALENDAR