BEGIN:VCALENDAR
VERSION:2.0
PRODID:-//Imkerverein Kellinghusen - ECPv6.2.6//NONSGML v1.0//EN
CALSCALE:GREGORIAN
METHOD:PUBLISH
X-WR-CALNAME:Imkerverein Kellinghusen
X-ORIGINAL-URL:https://iv-k.de
X-WR-CALDESC:Veranstaltungen für Imkerverein Kellinghusen
REFRESH-INTERVAL;VALUE=DURATION:PT1H
X-Robots-Tag:noindex
X-PUBLISHED-TTL:PT1H
BEGIN:VTIMEZONE
TZID:Europe/Berlin
BEGIN:DAYLIGHT
TZOFFSETFROM:+0100
TZOFFSETTO:+0200
TZNAME:CEST
DTSTART:20220327T010000
END:DAYLIGHT
BEGIN:STANDARD
TZOFFSETFROM:+0200
TZOFFSETTO:+0100
TZNAME:CET
DTSTART:20221030T010000
END:STANDARD
END:VTIMEZONE
BEGIN:VEVENT
DTSTART;TZID=Europe/Berlin:20220223T190000
DTEND;TZID=Europe/Berlin:20220223T210000
DTSTAMP:20260423T232927
CREATED:20211219T194534Z
LAST-MODIFIED:20220116T154108Z
UID:4791-1645642800-1645650000@iv-k.de
SUMMARY:Klönschnack ... mal anders: Königinnenzucht\, Teil I
DESCRIPTION:Während der Klönschnack-Termine im Februar und März werden wir das Thema ‚Königinnenzucht‘ vertiefen. \nAm 23. Februar wird Ecki über Genetik und Selektion der Königin referieren. \nBei Interesse findet im 2. Quartal der Praxis-Teil statt. \n  \nRestaurant „Auszeit“\, Tennisclub Kellinghusen\, Jakob-Fleischer-Straße\, Kellinghusen
URL:https://iv-k.de/veranstaltung/kloenschnack-26/
END:VEVENT
END:VCALENDAR