BEGIN:VCALENDAR
VERSION:2.0
PRODID:-//Imkerverein Kellinghusen - ECPv6.2.6//NONSGML v1.0//EN
CALSCALE:GREGORIAN
METHOD:PUBLISH
X-ORIGINAL-URL:https://iv-k.de
X-WR-CALDESC:Veranstaltungen für Imkerverein Kellinghusen
REFRESH-INTERVAL;VALUE=DURATION:PT1H
X-Robots-Tag:noindex
X-PUBLISHED-TTL:PT1H
BEGIN:VTIMEZONE
TZID:Europe/Berlin
BEGIN:DAYLIGHT
TZOFFSETFROM:+0100
TZOFFSETTO:+0200
TZNAME:CEST
DTSTART:20190331T010000
END:DAYLIGHT
BEGIN:STANDARD
TZOFFSETFROM:+0200
TZOFFSETTO:+0100
TZNAME:CET
DTSTART:20191027T010000
END:STANDARD
END:VTIMEZONE
BEGIN:VEVENT
DTSTART;TZID=Europe/Berlin:20190322T190000
DTEND;TZID=Europe/Berlin:20190322T220000
DTSTAMP:20260426T042146
CREATED:20181203T090514Z
LAST-MODIFIED:20190126T120816Z
UID:3561-1553281200-1553292000@iv-k.de
SUMMARY:Grünkohlessen mit anschließendem Vortrag "Geschätzt - gewogen - geeicht ... das richtige Gewicht"
DESCRIPTION:Tennisclub Kellinghusen\, Jakob-Fleischer-Straße\, Kellinghusen. \nIm Anschluss wird uns Eichmeister a.D. Manfred Bornholdt unter der Überschrift „Geschätzt – gewogen – geeicht … das richtige Gewicht“ Informationen über Gewichte von Honiggläsern und –Deckeln geben. \nManfred Bornholdt\, über 30 Jahre der Eichmeister des Nordens im Eichamt Elmshorn und Leiter der Abteilung „Waagen und Fertigpackungen“ in der Eichdirektion Nord in Hamburg\, war Jahrzehnte in den Kreisen Pinneberg\, Steinburg und Dithmarschen sowie in der Freien und Hansestadt Hamburg für das Eichwesen unterwegs. Der breiteren Öffentlichkeit bekannt als „Mogelpackungsexperte“ in Fernsehsendungen bei J.B. Kerner im ZDF\, im Schleswig-Holstein Magazin von NDR 2 und in diversen „Achtung Kontrolle“ Sendungen. \nDieses ist eine vereinsinterne Veranstaltung.
URL:https://iv-k.de/veranstaltung/gruenkohlessen/
END:VEVENT
END:VCALENDAR